BEGIN:VCALENDAR
VERSION:2.0
PRODID:-//DP Pro Event Calendar//3.2.6//EN
BEGIN:VEVENT
UID:2365e78b-b838-4ece-81dc-a7d8769658e4
DTSTART;TZID=UTC:20270609T150000
DTEND;TZID=UTC:20270609T160000
DTSTAMP:20200608T132341Z
SUMMARY:Dressuur Ilona
DESCRIPTION:
LOCATION:
URL:
END:VEVENT
END:VCALENDAR