BEGIN:VCALENDAR
VERSION:2.0
PRODID:-//DP Pro Event Calendar//3.2.6//EN
BEGIN:VEVENT
UID:dfae8009-5e79-44c7-b5f9-23e574f8c500
DTSTART;TZID=UTC:20270616T150000
DTEND;TZID=UTC:20270616T160000
DTSTAMP:20200608T132341Z
SUMMARY:Dressuur Ilona
DESCRIPTION:
LOCATION:
URL:
END:VEVENT
END:VCALENDAR