BEGIN:VCALENDAR
VERSION:2.0
PRODID:-//DP Pro Event Calendar//3.2.6//EN
BEGIN:VEVENT
UID:b982b5a4-1731-487e-8782-55cc2757bb4e
DTSTART;TZID=UTC:20270630T150000
DTEND;TZID=UTC:20270630T160000
DTSTAMP:20200608T132341Z
SUMMARY:Dressuur Ilona
DESCRIPTION:
LOCATION:
URL:
END:VEVENT
END:VCALENDAR