BEGIN:VCALENDAR
VERSION:2.0
PRODID:-//DP Pro Event Calendar//3.2.6//EN
BEGIN:VEVENT
UID:66892fcf-9d92-4fc3-b18f-4fa1adb65cfa
DTSTART;TZID=UTC:20270707T150000
DTEND;TZID=UTC:20270707T160000
DTSTAMP:20200608T132341Z
SUMMARY:Dressuur Ilona
DESCRIPTION:
LOCATION:
URL:
END:VEVENT
END:VCALENDAR