BEGIN:VCALENDAR
VERSION:2.0
PRODID:-//DP Pro Event Calendar//3.2.6//EN
BEGIN:VEVENT
UID:b75cde68-32b9-48bb-bdda-7b18e0d38507
DTSTART;TZID=UTC:20270721T150000
DTEND;TZID=UTC:20270721T160000
DTSTAMP:20200608T132341Z
SUMMARY:Dressuur Ilona
DESCRIPTION:
LOCATION:
URL:
END:VEVENT
END:VCALENDAR