BEGIN:VCALENDAR
VERSION:2.0
PRODID:-//DP Pro Event Calendar//3.2.6//EN
BEGIN:VEVENT
UID:e2cc4fcc-6f57-4110-91e3-b71753f80c61
DTSTART;TZID=UTC:20270804T150000
DTEND;TZID=UTC:20270804T160000
DTSTAMP:20200608T132341Z
SUMMARY:Dressuur Ilona
DESCRIPTION:
LOCATION:
URL:
END:VEVENT
END:VCALENDAR