BEGIN:VCALENDAR
VERSION:2.0
PRODID:-//DP Pro Event Calendar//3.2.6//EN
BEGIN:VEVENT
UID:ea46cbb2-541a-4e8b-85bb-afc6028858ed
DTSTART;TZID=UTC:20270825T150000
DTEND;TZID=UTC:20270825T160000
DTSTAMP:20200608T132341Z
SUMMARY:Dressuur Ilona
DESCRIPTION:
LOCATION:
URL:
END:VEVENT
END:VCALENDAR