BEGIN:VCALENDAR
VERSION:2.0
PRODID:-//DP Pro Event Calendar//3.2.6//EN
BEGIN:VEVENT
UID:e397eec7-f9e4-4c14-bae8-6d8ddbdc5248
DTSTART;TZID=UTC:20270901T150000
DTEND;TZID=UTC:20270901T160000
DTSTAMP:20200608T132341Z
SUMMARY:Dressuur Ilona
DESCRIPTION:
LOCATION:
URL:
END:VEVENT
END:VCALENDAR