BEGIN:VCALENDAR
VERSION:2.0
PRODID:-//DP Pro Event Calendar//3.2.6//EN
BEGIN:VEVENT
UID:1384844d-5fb3-4fb0-9f14-90ea41639088
DTSTART;TZID=UTC:20270908T150000
DTEND;TZID=UTC:20270908T160000
DTSTAMP:20200608T132341Z
SUMMARY:Dressuur Ilona
DESCRIPTION:
LOCATION:
URL:
END:VEVENT
END:VCALENDAR