BEGIN:VCALENDAR
VERSION:2.0
PRODID:-//DP Pro Event Calendar//3.2.6//EN
BEGIN:VEVENT
UID:86e449a0-dcf2-4825-86d1-15a5be5eb830
DTSTART;TZID=UTC:20270915T150000
DTEND;TZID=UTC:20270915T160000
DTSTAMP:20200608T132341Z
SUMMARY:Dressuur Ilona
DESCRIPTION:
LOCATION:
URL:
END:VEVENT
END:VCALENDAR