BEGIN:VCALENDAR
VERSION:2.0
PRODID:-//DP Pro Event Calendar//3.2.6//EN
BEGIN:VEVENT
UID:8a591a4b-b80d-4341-895e-bd5662c92664
DTSTART;TZID=UTC:20271013T150000
DTEND;TZID=UTC:20271013T160000
DTSTAMP:20200608T132341Z
SUMMARY:Dressuur Ilona
DESCRIPTION:
LOCATION:
URL:
END:VEVENT
END:VCALENDAR