BEGIN:VCALENDAR
VERSION:2.0
PRODID:-//DP Pro Event Calendar//3.2.6//EN
BEGIN:VEVENT
UID:a9f669d2-6f89-49be-90ae-3311fa7f5c85
DTSTART;TZID=UTC:20271020T150000
DTEND;TZID=UTC:20271020T160000
DTSTAMP:20200608T132341Z
SUMMARY:Dressuur Ilona
DESCRIPTION:
LOCATION:
URL:
END:VEVENT
END:VCALENDAR