BEGIN:VCALENDAR
VERSION:2.0
PRODID:-//DP Pro Event Calendar//3.2.6//EN
BEGIN:VEVENT
UID:10a45b3e-b4eb-4109-a861-59160412b44c
DTSTART;TZID=UTC:20271117T150000
DTEND;TZID=UTC:20271117T160000
DTSTAMP:20200608T132341Z
SUMMARY:Dressuur Ilona
DESCRIPTION:
LOCATION:
URL:
END:VEVENT
END:VCALENDAR