BEGIN:VCALENDAR
VERSION:2.0
PRODID:-//DP Pro Event Calendar//3.2.6//EN
BEGIN:VEVENT
UID:9aba6227-1103-4d53-a063-ec4262bc87f0
DTSTART;TZID=UTC:20271124T150000
DTEND;TZID=UTC:20271124T160000
DTSTAMP:20200608T132341Z
SUMMARY:Dressuur Ilona
DESCRIPTION:
LOCATION:
URL:
END:VEVENT
END:VCALENDAR