BEGIN:VCALENDAR
VERSION:2.0
PRODID:-//DP Pro Event Calendar//3.2.6//EN
BEGIN:VEVENT
UID:26a3d3fb-d990-4731-bcb7-8ae9f7301a3a
DTSTART;TZID=UTC:20271127T110000
DTEND;TZID=UTC:20271127T120000
DTSTAMP:20200608T140410Z
SUMMARY:Dressuur Ilona
DESCRIPTION:1x per maand worden de dressuur lessen van Ilona op de Zaterdag overgenomen door Ilse.
LOCATION:
URL:
END:VEVENT
END:VCALENDAR