BEGIN:VCALENDAR
VERSION:2.0
PRODID:-//DP Pro Event Calendar//3.2.6//EN
BEGIN:VEVENT
UID:43e06ecd-af6b-491c-8b9d-50446cf23c5b
DTSTART;TZID=UTC:20271208T150000
DTEND;TZID=UTC:20271208T160000
DTSTAMP:20200608T132341Z
SUMMARY:Dressuur Ilona
DESCRIPTION:
LOCATION:
URL:
END:VEVENT
END:VCALENDAR