BEGIN:VCALENDAR
VERSION:2.0
PRODID:-//DP Pro Event Calendar//3.2.6//EN
BEGIN:VEVENT
UID:fe48b110-83c9-4eb3-8fef-f33a8f3d10de
DTSTART;TZID=UTC:20271229T150000
DTEND;TZID=UTC:20271229T160000
DTSTAMP:20200608T132341Z
SUMMARY:Dressuur Ilona
DESCRIPTION:
LOCATION:
URL:
END:VEVENT
END:VCALENDAR