BEGIN:VCALENDAR
VERSION:2.0
PRODID:-//DP Pro Event Calendar//3.2.6//EN
BEGIN:VEVENT
UID:873bc5cc-1712-4935-9b95-9e779b47a4ca
DTSTART;TZID=UTC:20280105T150000
DTEND;TZID=UTC:20280105T160000
DTSTAMP:20200608T132341Z
SUMMARY:Dressuur Ilona
DESCRIPTION:
LOCATION:
URL:
END:VEVENT
END:VCALENDAR