BEGIN:VCALENDAR
VERSION:2.0
PRODID:-//DP Pro Event Calendar//3.2.6//EN
BEGIN:VEVENT
UID:c614bae1-de37-435b-9df5-862b630b7e9b
DTSTART;TZID=UTC:20280119T150000
DTEND;TZID=UTC:20280119T160000
DTSTAMP:20200608T132341Z
SUMMARY:Dressuur Ilona
DESCRIPTION:
LOCATION:
URL:
END:VEVENT
END:VCALENDAR