BEGIN:VCALENDAR
VERSION:2.0
PRODID:-//DP Pro Event Calendar//3.2.6//EN
BEGIN:VEVENT
UID:3d8b09fd-a96d-41f6-a2ee-a2a0b06d830d
DTSTART;TZID=UTC:20280202T150000
DTEND;TZID=UTC:20280202T160000
DTSTAMP:20200608T132341Z
SUMMARY:Dressuur Ilona
DESCRIPTION:
LOCATION:
URL:
END:VEVENT
END:VCALENDAR