BEGIN:VCALENDAR
VERSION:2.0
PRODID:-//DP Pro Event Calendar//3.2.6//EN
BEGIN:VEVENT
UID:954621f9-b3eb-40f6-87c2-20f4589bd07d
DTSTART;TZID=UTC:20280209T150000
DTEND;TZID=UTC:20280209T160000
DTSTAMP:20200608T132341Z
SUMMARY:Dressuur Ilona
DESCRIPTION:
LOCATION:
URL:
END:VEVENT
END:VCALENDAR