BEGIN:VCALENDAR
VERSION:2.0
PRODID:-//DP Pro Event Calendar//3.2.6//EN
BEGIN:VEVENT
UID:cdd77c5a-2b0c-41a6-ab9d-850ebf8d47ca
DTSTART;TZID=UTC:20280216T150000
DTEND;TZID=UTC:20280216T160000
DTSTAMP:20200608T132341Z
SUMMARY:Dressuur Ilona
DESCRIPTION:
LOCATION:
URL:
END:VEVENT
END:VCALENDAR