BEGIN:VCALENDAR
VERSION:2.0
PRODID:-//DP Pro Event Calendar//3.2.6//EN
BEGIN:VEVENT
UID:1859cf69-dc5b-477e-b7b6-f3ef4649c904
DTSTART;TZID=UTC:20280223T150000
DTEND;TZID=UTC:20280223T160000
DTSTAMP:20200608T132341Z
SUMMARY:Dressuur Ilona
DESCRIPTION:
LOCATION:
URL:
END:VEVENT
END:VCALENDAR