BEGIN:VCALENDAR
VERSION:2.0
PRODID:-//DP Pro Event Calendar//3.2.6//EN
BEGIN:VEVENT
UID:8d8d1140-cbca-40fc-8899-8719691ff685
DTSTART;TZID=UTC:20280301T150000
DTEND;TZID=UTC:20280301T160000
DTSTAMP:20200608T132341Z
SUMMARY:Dressuur Ilona
DESCRIPTION:
LOCATION:
URL:
END:VEVENT
END:VCALENDAR