BEGIN:VCALENDAR
VERSION:2.0
PRODID:-//DP Pro Event Calendar//3.2.6//EN
BEGIN:VEVENT
UID:1b83b690-2bca-488b-94d6-72d9f1241c28
DTSTART;TZID=UTC:20280315T150000
DTEND;TZID=UTC:20280315T160000
DTSTAMP:20200608T132341Z
SUMMARY:Dressuur Ilona
DESCRIPTION:
LOCATION:
URL:
END:VEVENT
END:VCALENDAR