BEGIN:VCALENDAR
VERSION:2.0
PRODID:-//DP Pro Event Calendar//3.2.6//EN
BEGIN:VEVENT
UID:f16003f8-621b-40d1-a3a3-d7eab63ef006
DTSTART;TZID=UTC:20280318T110000
DTEND;TZID=UTC:20280318T120000
DTSTAMP:20200608T140410Z
SUMMARY:Dressuur Ilona
DESCRIPTION:1x per maand worden de dressuur lessen van Ilona op de Zaterdag overgenomen door Ilse.
LOCATION:
URL:
END:VEVENT
END:VCALENDAR