BEGIN:VCALENDAR
VERSION:2.0
PRODID:-//DP Pro Event Calendar//3.2.6//EN
BEGIN:VEVENT
UID:0cdfea4c-becf-4b49-b80a-31b1db46d721
DTSTART;TZID=UTC:20280322T150000
DTEND;TZID=UTC:20280322T160000
DTSTAMP:20200608T132341Z
SUMMARY:Dressuur Ilona
DESCRIPTION:
LOCATION:
URL:
END:VEVENT
END:VCALENDAR