BEGIN:VCALENDAR
VERSION:2.0
PRODID:-//DP Pro Event Calendar//3.2.6//EN
BEGIN:VEVENT
UID:e2de6278-7839-4b57-bb7b-662e7a98d5d7
DTSTART;TZID=UTC:20280405T150000
DTEND;TZID=UTC:20280405T160000
DTSTAMP:20200608T132341Z
SUMMARY:Dressuur Ilona
DESCRIPTION:
LOCATION:
URL:
END:VEVENT
END:VCALENDAR