BEGIN:VCALENDAR
VERSION:2.0
PRODID:-//DP Pro Event Calendar//3.2.6//EN
BEGIN:VEVENT
UID:ad121c6d-4964-40d0-a9d9-ec086b3209e8
DTSTART;TZID=UTC:20280419T150000
DTEND;TZID=UTC:20280419T160000
DTSTAMP:20200608T132341Z
SUMMARY:Dressuur Ilona
DESCRIPTION:
LOCATION:
URL:
END:VEVENT
END:VCALENDAR