BEGIN:VCALENDAR
VERSION:2.0
PRODID:-//DP Pro Event Calendar//3.2.6//EN
BEGIN:VEVENT
UID:eea7c441-f1fc-470c-8355-3285fcfd601a
DTSTART;TZID=UTC:20280503T150000
DTEND;TZID=UTC:20280503T160000
DTSTAMP:20200608T132341Z
SUMMARY:Dressuur Ilona
DESCRIPTION:
LOCATION:
URL:
END:VEVENT
END:VCALENDAR