BEGIN:VCALENDAR
VERSION:2.0
PRODID:-//DP Pro Event Calendar//3.2.6//EN
BEGIN:VEVENT
UID:3c1c6e87-4d94-4ba0-89a0-155fa6b6d88a
DTSTART;TZID=UTC:20280510T150000
DTEND;TZID=UTC:20280510T160000
DTSTAMP:20200608T132341Z
SUMMARY:Dressuur Ilona
DESCRIPTION:
LOCATION:
URL:
END:VEVENT
END:VCALENDAR