BEGIN:VCALENDAR
VERSION:2.0
PRODID:-//DP Pro Event Calendar//3.2.6//EN
BEGIN:VEVENT
UID:242eff85-f479-4d97-8d75-cbb3667db3ff
DTSTART;TZID=UTC:20280517T150000
DTEND;TZID=UTC:20280517T160000
DTSTAMP:20200608T132341Z
SUMMARY:Dressuur Ilona
DESCRIPTION:
LOCATION:
URL:
END:VEVENT
END:VCALENDAR