BEGIN:VCALENDAR
VERSION:2.0
PRODID:-//DP Pro Event Calendar//3.2.6//EN
BEGIN:VEVENT
UID:7144c70f-f361-4664-b6a5-db2fd6382609
DTSTART;TZID=UTC:20280524T150000
DTEND;TZID=UTC:20280524T160000
DTSTAMP:20200608T132341Z
SUMMARY:Dressuur Ilona
DESCRIPTION:
LOCATION:
URL:
END:VEVENT
END:VCALENDAR