BEGIN:VCALENDAR
VERSION:2.0
PRODID:-//DP Pro Event Calendar//3.2.6//EN
BEGIN:VEVENT
UID:59296644-a169-4f2b-8038-c697ec36e4fb
DTSTART;TZID=UTC:20280531T150000
DTEND;TZID=UTC:20280531T160000
DTSTAMP:20200608T132341Z
SUMMARY:Dressuur Ilona
DESCRIPTION:
LOCATION:
URL:
END:VEVENT
END:VCALENDAR