BEGIN:VCALENDAR
VERSION:2.0
PRODID:-//DP Pro Event Calendar//3.2.6//EN
BEGIN:VEVENT
UID:70ec5d76-b515-4a53-a7de-eb3600312bb3
DTSTART;TZID=UTC:20280603T110000
DTEND;TZID=UTC:20280603T120000
DTSTAMP:20200608T140410Z
SUMMARY:Dressuur Ilona
DESCRIPTION:1x per maand worden de dressuur lessen van Ilona op de Zaterdag overgenomen door Ilse.
LOCATION:
URL:
END:VEVENT
END:VCALENDAR