BEGIN:VCALENDAR
VERSION:2.0
PRODID:-//DP Pro Event Calendar//3.2.6//EN
BEGIN:VEVENT
UID:831fa757-d944-4ca2-9a28-745c62c8db5b
DTSTART;TZID=UTC:20280614T150000
DTEND;TZID=UTC:20280614T160000
DTSTAMP:20200608T132341Z
SUMMARY:Dressuur Ilona
DESCRIPTION:
LOCATION:
URL:
END:VEVENT
END:VCALENDAR