BEGIN:VCALENDAR
VERSION:2.0
PRODID:-//DP Pro Event Calendar//3.2.6//EN
BEGIN:VEVENT
UID:378be9c2-f146-47b1-85db-0e4291f9bcb3
DTSTART;TZID=UTC:20280621T150000
DTEND;TZID=UTC:20280621T160000
DTSTAMP:20200608T132341Z
SUMMARY:Dressuur Ilona
DESCRIPTION:
LOCATION:
URL:
END:VEVENT
END:VCALENDAR