BEGIN:VCALENDAR
VERSION:2.0
PRODID:-//DP Pro Event Calendar//3.2.6//EN
BEGIN:VEVENT
UID:2ab808e7-65c9-45f3-b872-7b891c4c28b0
DTSTART;TZID=UTC:20280628T150000
DTEND;TZID=UTC:20280628T160000
DTSTAMP:20200608T132341Z
SUMMARY:Dressuur Ilona
DESCRIPTION:
LOCATION:
URL:
END:VEVENT
END:VCALENDAR