BEGIN:VCALENDAR
VERSION:2.0
PRODID:-//DP Pro Event Calendar//3.2.6//EN
BEGIN:VEVENT
UID:9d1bf8de-03fe-4d6d-9144-4baa14e8cd4a
DTSTART;TZID=UTC:20280705T150000
DTEND;TZID=UTC:20280705T160000
DTSTAMP:20200608T132341Z
SUMMARY:Dressuur Ilona
DESCRIPTION:
LOCATION:
URL:
END:VEVENT
END:VCALENDAR