BEGIN:VCALENDAR
VERSION:2.0
PRODID:-//DP Pro Event Calendar//3.2.6//EN
BEGIN:VEVENT
UID:0ba8ee8a-db19-4e30-8d7c-f84db7ef4cab
DTSTART;TZID=UTC:20280712T150000
DTEND;TZID=UTC:20280712T160000
DTSTAMP:20200608T132341Z
SUMMARY:Dressuur Ilona
DESCRIPTION:
LOCATION:
URL:
END:VEVENT
END:VCALENDAR