BEGIN:VCALENDAR
VERSION:2.0
PRODID:-//DP Pro Event Calendar//3.2.6//EN
BEGIN:VEVENT
UID:d8aa8ca2-a3fc-4148-94fb-f1cba6ae33c2
DTSTART;TZID=UTC:20280715T110000
DTEND;TZID=UTC:20280715T120000
DTSTAMP:20200608T140410Z
SUMMARY:Dressuur Ilona
DESCRIPTION:1x per maand worden de dressuur lessen van Ilona op de Zaterdag overgenomen door Ilse.
LOCATION:
URL:
END:VEVENT
END:VCALENDAR