BEGIN:VCALENDAR
VERSION:2.0
PRODID:-//DP Pro Event Calendar//3.2.6//EN
BEGIN:VEVENT
UID:26d13cdf-1861-433e-bcc7-b2dea2d86b54
DTSTART;TZID=UTC:20280719T150000
DTEND;TZID=UTC:20280719T160000
DTSTAMP:20200608T132341Z
SUMMARY:Dressuur Ilona
DESCRIPTION:
LOCATION:
URL:
END:VEVENT
END:VCALENDAR