BEGIN:VCALENDAR
VERSION:2.0
PRODID:-//DP Pro Event Calendar//3.2.6//EN
BEGIN:VEVENT
UID:87a2668c-ac7b-4bce-85e1-6e275d45508c
DTSTART;TZID=UTC:20280720T203000
DTEND;TZID=UTC:20280720T213000
DTSTAMP:20200608T135232Z
SUMMARY:Western Ilona
DESCRIPTION:
LOCATION:
URL:
END:VEVENT
END:VCALENDAR