BEGIN:VCALENDAR
VERSION:2.0
PRODID:-//DP Pro Event Calendar//3.2.6//EN
BEGIN:VEVENT
UID:b66dd7d8-a77b-46e0-b205-5efbc08aa58b
DTSTART;TZID=UTC:20280726T150000
DTEND;TZID=UTC:20280726T160000
DTSTAMP:20200608T132341Z
SUMMARY:Dressuur Ilona
DESCRIPTION:
LOCATION:
URL:
END:VEVENT
END:VCALENDAR