BEGIN:VCALENDAR
VERSION:2.0
PRODID:-//DP Pro Event Calendar//3.2.6//EN
BEGIN:VEVENT
UID:a44b0f6c-e4f7-4f30-987e-30888c8b6134
DTSTART;TZID=UTC:20280809T150000
DTEND;TZID=UTC:20280809T160000
DTSTAMP:20200608T132341Z
SUMMARY:Dressuur Ilona
DESCRIPTION:
LOCATION:
URL:
END:VEVENT
END:VCALENDAR