BEGIN:VCALENDAR
VERSION:2.0
PRODID:-//DP Pro Event Calendar//3.2.6//EN
BEGIN:VEVENT
UID:5f78ef3f-db96-46be-9220-4e930f5deb13
DTSTART;TZID=UTC:20280823T150000
DTEND;TZID=UTC:20280823T160000
DTSTAMP:20200608T132341Z
SUMMARY:Dressuur Ilona
DESCRIPTION:
LOCATION:
URL:
END:VEVENT
END:VCALENDAR