BEGIN:VCALENDAR
VERSION:2.0
PRODID:-//DP Pro Event Calendar//3.2.6//EN
BEGIN:VEVENT
UID:1296fb96-0374-45c2-bc6b-5e788f840de2
DTSTART;TZID=UTC:20280830T150000
DTEND;TZID=UTC:20280830T160000
DTSTAMP:20200608T132341Z
SUMMARY:Dressuur Ilona
DESCRIPTION:
LOCATION:
URL:
END:VEVENT
END:VCALENDAR