BEGIN:VCALENDAR
VERSION:2.0
PRODID:-//DP Pro Event Calendar//3.2.6//EN
BEGIN:VEVENT
UID:b8e1e6f0-e6a8-4864-8064-e9608d5ec1b5
DTSTART;TZID=UTC:20280913T150000
DTEND;TZID=UTC:20280913T160000
DTSTAMP:20200608T132341Z
SUMMARY:Dressuur Ilona
DESCRIPTION:
LOCATION:
URL:
END:VEVENT
END:VCALENDAR