BEGIN:VCALENDAR
VERSION:2.0
PRODID:-//DP Pro Event Calendar//3.2.6//EN
BEGIN:VEVENT
UID:77ec0a91-7f0d-4b8a-b41a-990d939ff519
DTSTART;TZID=UTC:20280920T150000
DTEND;TZID=UTC:20280920T160000
DTSTAMP:20200608T132341Z
SUMMARY:Dressuur Ilona
DESCRIPTION:
LOCATION:
URL:
END:VEVENT
END:VCALENDAR