BEGIN:VCALENDAR
VERSION:2.0
PRODID:-//DP Pro Event Calendar//3.2.6//EN
BEGIN:VEVENT
UID:f3ad2ce6-f0c5-487b-8a0e-221f34fffb2a
DTSTART;TZID=UTC:20281004T150000
DTEND;TZID=UTC:20281004T160000
DTSTAMP:20200608T132341Z
SUMMARY:Dressuur Ilona
DESCRIPTION:
LOCATION:
URL:
END:VEVENT
END:VCALENDAR